View In:
ArcGIS JavaScript
ArcGIS.com Map
Google Earth
ArcMap
View Footprint In:
ArcGIS.com Map
Service Description: In 1965, the USGS and the IDNR entered into a cooperative agreement to determine the drainage areas of all streams in Indiana having a drainage area of at least five square miles, as well as the drainage area at many intermediate points. This work was then compiled into the publication “Drainage Areas of Indiana Streams”, by Richard E. Hoggatt. These maps are valuable since they indicate drainage patterns and watershed boundaries that were determined by Hoggatt, which have been the standard used by water resource agencies since their development. To create this image service, the maps were scanned, georeferenced, and mosaiced. The purpose of this service is to serve as a historical reference and as a guide to past agency decisions, and will be an important resource for future researchers and engineers to determine drainage changes throughout the years.
Name: DNR/Hoggatt_Drainage_Maps
Description: In 1965, the USGS and the IDNR entered into a cooperative agreement to determine the drainage areas of all streams in Indiana having a drainage area of at least five square miles, as well as the drainage area at many intermediate points. This work was then compiled into the publication “Drainage Areas of Indiana Streams”, by Richard E. Hoggatt. These maps are valuable since they indicate drainage patterns and watershed boundaries that were determined by Hoggatt, which have been the standard used by water resource agencies since their development. To create this image service, the maps were scanned, georeferenced, and mosaiced. The purpose of this service is to serve as a historical reference and as a guide to past agency decisions, and will be an important resource for future researchers and engineers to determine drainage changes throughout the years.
Single Fused Map Cache: false
Extent:
XMin: 400887.84059999976
YMin: 4178080.935138976
XMax: 712636.9635802136
YMax: 4650873.9366999995
Spatial Reference: 26916
(26916)
Initial Extent:
XMin: 400887.84059999976
YMin: 4178080.935138976
XMax: 712636.9635802136
YMax: 4650873.9366999995
Spatial Reference: 26916
(26916)
Full Extent:
XMin: 400887.84059999976
YMin: 4178080.935138976
XMax: 712636.9635802136
YMax: 4650873.9366999995
Spatial Reference: 26916
(26916)
Pixel Size X: 3.0001840340700014
Pixel Size Y: 3.000184034070001
Band Count: 3
Pixel Type: U8
RasterFunction Infos: N/A
Mensuration Capabilities: None
Has Histograms: true
Has Colormap: false
Min Scale: 0
Max Scale: 0
Copyright Text: Indiana Department of Natural Resources; Richard E. Hoggatt
Service Data Type: esriImageServiceDataTypeRGB
Min Values: 0, 0, 0
Max Values: 255, 255, 255
Mean Values: 197.36929509838288, 195.0775136202584, 190.79156291155806
Standard Deviation Values: 46.091990081575574, 45.852518362064615, 45.28161654337771
Object ID Field: OBJECTID
Fields:
-
OBJECTID
(
type: esriFieldTypeOID
, alias: OBJECTID
)
-
Shape
(
type: esriFieldTypeGeometry
, alias: Shape
)
-
Name
(
type: esriFieldTypeString
, alias: Name
, length: 50
)
-
MinPS
(
type: esriFieldTypeDouble
, alias: MinPS
)
-
MaxPS
(
type: esriFieldTypeDouble
, alias: MaxPS
)
-
LowPS
(
type: esriFieldTypeDouble
, alias: LowPS
)
-
HighPS
(
type: esriFieldTypeDouble
, alias: HighPS
)
-
Category
(
type: esriFieldTypeInteger
, alias: Category
, Coded Values:
[0: Unknown]
, [1: Primary]
, [2: Overview]
, ...5 more...
)
-
Tag
(
type: esriFieldTypeString
, alias: Tag
, length: 20
)
-
GroupName
(
type: esriFieldTypeString
, alias: GroupName
, length: 50
)
-
ProductName
(
type: esriFieldTypeString
, alias: ProductName
, length: 50
)
-
CenterX
(
type: esriFieldTypeDouble
, alias: CenterX
)
-
CenterY
(
type: esriFieldTypeDouble
, alias: CenterY
)
-
ZOrder
(
type: esriFieldTypeInteger
, alias: ZOrder
)
-
Shape_Length
(
type: esriFieldTypeDouble
, alias: Shape_Length
)
-
Shape_Area
(
type: esriFieldTypeDouble
, alias: Shape_Area
)
Raster Attribute Table: false
Default Mosaic Method: Northwest
Allowed Mosaic Methods: NorthWest,Center,LockRaster,ByAttribute,Nadir,Viewpoint,Seamline,None
SortField:
SortValue: null
Mosaic Operator: First
Default Compression Quality: 75
Default Resampling Method: Bilinear
Max Record Count: 1000
Max Image Height: 4100
Max Image Width: 15000
Max Download Image Count: 20
Max Mosaic Image Count: 20
Allow Raster Function: true
Raster Type Infos:
Name: Raster Dataset
Description: Supports all ArcGIS Raster Datasets
Help:
Has Raster Attribute Table: false
Edit Fields Info: null
Ownership Based AccessControl For Rasters: null
Child Resources:
Info
Histograms
Key Properties
Supported Operations:
Export Image
Query
Identify
Compute Histograms